BEGIN:VCALENDAR
VERSION:2.0
PRODID:-//Colorado QMAP Training - ECPv6.15.17//NONSGML v1.0//EN
CALSCALE:GREGORIAN
METHOD:PUBLISH
X-ORIGINAL-URL:https://staging.qmapclass.com
X-WR-CALDESC:Events for Colorado QMAP Training
REFRESH-INTERVAL;VALUE=DURATION:PT1H
X-Robots-Tag:noindex
X-PUBLISHED-TTL:PT1H
BEGIN:VTIMEZONE
TZID:America/Denver
BEGIN:DAYLIGHT
TZOFFSETFROM:-0700
TZOFFSETTO:-0600
TZNAME:MDT
DTSTART:20230312T090000
END:DAYLIGHT
BEGIN:STANDARD
TZOFFSETFROM:-0600
TZOFFSETTO:-0700
TZNAME:MST
DTSTART:20231105T080000
END:STANDARD
BEGIN:DAYLIGHT
TZOFFSETFROM:-0700
TZOFFSETTO:-0600
TZNAME:MDT
DTSTART:20240310T090000
END:DAYLIGHT
BEGIN:STANDARD
TZOFFSETFROM:-0600
TZOFFSETTO:-0700
TZNAME:MST
DTSTART:20241103T080000
END:STANDARD
BEGIN:DAYLIGHT
TZOFFSETFROM:-0700
TZOFFSETTO:-0600
TZNAME:MDT
DTSTART:20250309T090000
END:DAYLIGHT
BEGIN:STANDARD
TZOFFSETFROM:-0600
TZOFFSETTO:-0700
TZNAME:MST
DTSTART:20251102T080000
END:STANDARD
END:VTIMEZONE
BEGIN:VEVENT
DTSTART;TZID=America/Denver:20240913T090000
DTEND;TZID=America/Denver:20240914T170000
DTSTAMP:20260423T120024
CREATED:20240809T173605Z
LAST-MODIFIED:20240809T173927Z
UID:10000947-1726218000-1726333200@staging.qmapclass.com
SUMMARY:QMAP In Person Course - Longmont Colorado
DESCRIPTION:
URL:https://staging.qmapclass.com/class/qmap-in-person-course-longmont-colorado-58/
LOCATION:QMAP Training Center\, 1361 Francis St. STE B-107\, Longmont\, CO\, 80501\, United States
CATEGORIES:QMAP Standard 2-day Class
END:VEVENT
BEGIN:VEVENT
DTSTART;TZID=America/Denver:20240830T090000
DTEND;TZID=America/Denver:20240831T170000
DTSTAMP:20260423T120024
CREATED:20240810T131013Z
LAST-MODIFIED:20240810T131245Z
UID:10000946-1725008400-1725123600@staging.qmapclass.com
SUMMARY:QMAP In Person Course - Longmont Colorado
DESCRIPTION:
URL:https://staging.qmapclass.com/class/qmap-in-person-course-longmont-colorado-59/
LOCATION:QMAP Training Center\, 1361 Francis St. STE B-107\, Longmont\, CO\, 80501\, United States
CATEGORIES:QMAP Standard 2-day Class
END:VEVENT
BEGIN:VEVENT
DTSTART;TZID=America/Denver:20240822T090000
DTEND;TZID=America/Denver:20240822T140000
DTSTAMP:20260423T120024
CREATED:20240815T221253Z
LAST-MODIFIED:20240815T221253Z
UID:10001105-1724317200-1724335200@staging.qmapclass.com
SUMMARY:QMAP RETEST IN PERSON
DESCRIPTION:
URL:https://staging.qmapclass.com/class/qmap-retest-in-person-15/
LOCATION:QMAP Training Center\, 1361 Francis St. STE B-107\, Longmont\, CO\, 80501\, United States
CATEGORIES:QMAP Retesting Only
END:VEVENT
BEGIN:VEVENT
DTSTART;TZID=America/Denver:20240821T090000
DTEND;TZID=America/Denver:20240822T170000
DTSTAMP:20260423T120024
CREATED:20240808T213318Z
LAST-MODIFIED:20240810T131438Z
UID:10001075-1724230800-1724346000@staging.qmapclass.com
SUMMARY:QMAP in Person Course - Longmont Colorado
DESCRIPTION:
URL:https://staging.qmapclass.com/class/qmap-in-person-course-longmont-colorado-57/
LOCATION:QMAP Training Center\, 1361 Francis St. STE B-107\, Longmont\, CO\, 80501\, United States
CATEGORIES:QMAP Standard 2-day Class
END:VEVENT
BEGIN:VEVENT
DTSTART;TZID=America/Denver:20240817T090000
DTEND;TZID=America/Denver:20240817T133000
DTSTAMP:20260423T120024
CREATED:20240815T215815Z
LAST-MODIFIED:20240815T220030Z
UID:10001104-1723885200-1723901400@staging.qmapclass.com
SUMMARY:QMAP RETEST IN PERSON
DESCRIPTION:
URL:https://staging.qmapclass.com/class/qmap-retesting-only/
LOCATION:QMAP Training Center\, 1361 Francis St. STE B-107\, Longmont\, CO\, 80501\, United States
CATEGORIES:QMAP Retesting Only
END:VEVENT
BEGIN:VEVENT
DTSTART;TZID=America/Denver:20240816T090000
DTEND;TZID=America/Denver:20240817T170000
DTSTAMP:20260423T120024
CREATED:20240801T182526Z
LAST-MODIFIED:20240801T182816Z
UID:10000945-1723798800-1723914000@staging.qmapclass.com
SUMMARY:QMAP In Person Course - Longmont Colorado
DESCRIPTION:
URL:https://staging.qmapclass.com/class/qmap-in-person-course-longmont-colorado-56/
LOCATION:QMAP Training Center\, 1361 Francis St. STE B-107\, Longmont\, CO\, 80501\, United States
CATEGORIES:QMAP Standard 2-day Class
END:VEVENT
BEGIN:VEVENT
DTSTART;TZID=America/Denver:20240808T083000
DTEND;TZID=America/Denver:20240808T140000
DTSTAMP:20260423T120024
CREATED:20240531T150218Z
LAST-MODIFIED:20240531T150456Z
UID:10000911-1723105800-1723125600@staging.qmapclass.com
SUMMARY:ONLINE COURSE - IN PERSON TESTING - LONGMONT CO
DESCRIPTION:
URL:https://staging.qmapclass.com/class/online-course-in-person-testing-longmont-co-35/
LOCATION:QMAP Training Center\, 1361 Francis St. STE B-107\, Longmont\, CO\, 80501\, United States
CATEGORIES:QMAP SELF PACED Online Course – Scheduled in Person Written and Practicum Testing
END:VEVENT
BEGIN:VEVENT
DTSTART;TZID=America/Denver:20240807T090000
DTEND;TZID=America/Denver:20240808T170000
DTSTAMP:20260423T120024
CREATED:20240510T042529Z
LAST-MODIFIED:20240612T141432Z
UID:10000894-1723021200-1723136400@staging.qmapclass.com
SUMMARY:QMAP In Person Course - Longmont Colorado
DESCRIPTION:
URL:https://staging.qmapclass.com/class/qmap-in-person-course-longmont-colorado-54/
LOCATION:QMAP Training Center\, 1361 Francis St. STE B-107\, Longmont\, CO\, 80501\, United States
CATEGORIES:QMAP Standard 2-day Class
END:VEVENT
BEGIN:VEVENT
DTSTART;TZID=America/Denver:20240803T090000
DTEND;TZID=America/Denver:20240803T140000
DTSTAMP:20260423T120024
CREATED:20240510T043825Z
LAST-MODIFIED:20240723T142311Z
UID:10000903-1722675600-1722693600@staging.qmapclass.com
SUMMARY:QMAP RETEST IN PERSON
DESCRIPTION:
URL:https://staging.qmapclass.com/class/qmap-retest-in-person-14/
LOCATION:QMAP Training Center\, 1361 Francis St. STE B-107\, Longmont\, CO\, 80501\, United States
CATEGORIES:QMAP Retesting Only
END:VEVENT
BEGIN:VEVENT
DTSTART;TZID=America/Denver:20240803T083000
DTEND;TZID=America/Denver:20240803T140000
DTSTAMP:20260423T120024
CREATED:20240531T152916Z
LAST-MODIFIED:20240531T152916Z
UID:10000920-1722673800-1722693600@staging.qmapclass.com
SUMMARY:ONLINE COURSE - IN PERSON TESTING - LONGMONT CO
DESCRIPTION:
URL:https://staging.qmapclass.com/class/online-course-in-person-testing-longmont-co-37/
LOCATION:QMAP Training Center\, 1361 Francis St. STE B-107\, Longmont\, CO\, 80501\, United States
CATEGORIES:QMAP SELF PACED Online Course – Scheduled in Person Written and Practicum Testing
END:VEVENT
BEGIN:VEVENT
DTSTART;TZID=America/Denver:20240802T090000
DTEND;TZID=America/Denver:20240803T170000
DTSTAMP:20260423T120024
CREATED:20240510T040558Z
LAST-MODIFIED:20240510T040911Z
UID:10000898-1722589200-1722704400@staging.qmapclass.com
SUMMARY:QMAP In Person Course - Longmont Colorado
DESCRIPTION:
URL:https://staging.qmapclass.com/class/qmap-in-person-course-longmont-colorado-53/
LOCATION:QMAP Training Center\, 1361 Francis St. STE B-107\, Longmont\, CO\, 80501\, United States
CATEGORIES:QMAP Standard 2-day Class
END:VEVENT
BEGIN:VEVENT
DTSTART;TZID=America/Denver:20240725T083000
DTEND;TZID=America/Denver:20240725T140000
DTSTAMP:20260423T120024
CREATED:20240531T145949Z
LAST-MODIFIED:20240531T150050Z
UID:10000910-1721896200-1721916000@staging.qmapclass.com
SUMMARY:ONLINE COURSE - IN PERSON TESTING - LONGMONT CO
DESCRIPTION:
URL:https://staging.qmapclass.com/class/online-course-in-person-testing-longmont-co-34/
LOCATION:QMAP Training Center\, 1361 Francis St. STE B-107\, Longmont\, CO\, 80501\, United States
CATEGORIES:QMAP SELF PACED Online Course – Scheduled in Person Written and Practicum Testing
END:VEVENT
BEGIN:VEVENT
DTSTART;TZID=America/Denver:20240724T090000
DTEND;TZID=America/Denver:20240725T170000
DTSTAMP:20260423T120024
CREATED:20240510T040239Z
LAST-MODIFIED:20240612T141153Z
UID:10000893-1721811600-1721926800@staging.qmapclass.com
SUMMARY:QMAP In Person Course - Longmont Colorado
DESCRIPTION:
URL:https://staging.qmapclass.com/class/qmap-in-person-course-longmont-colorado-52/
LOCATION:QMAP Training Center\, 1361 Francis St. STE B-107\, Longmont\, CO\, 80501\, United States
CATEGORIES:QMAP Standard 2-day Class
END:VEVENT
BEGIN:VEVENT
DTSTART;TZID=America/Denver:20240720T090000
DTEND;TZID=America/Denver:20240720T140000
DTSTAMP:20260423T120024
CREATED:20240510T043603Z
LAST-MODIFIED:20240531T152104Z
UID:10000902-1721466000-1721484000@staging.qmapclass.com
SUMMARY:QMAP RETEST IN PERSON
DESCRIPTION:
URL:https://staging.qmapclass.com/class/qmap-retest-in-person-13/
LOCATION:QMAP Training Center\, 1361 Francis St. STE B-107\, Longmont\, CO\, 80501\, United States
CATEGORIES:QMAP Retesting Only
END:VEVENT
BEGIN:VEVENT
DTSTART;TZID=America/Denver:20240720T083000
DTEND;TZID=America/Denver:20240720T140000
DTSTAMP:20260423T120024
CREATED:20240531T145718Z
LAST-MODIFIED:20240619T211242Z
UID:10000916-1721464200-1721484000@staging.qmapclass.com
SUMMARY:ONLINE COURSE - IN PERSON TESTING - LONGMONT CO
DESCRIPTION:
URL:https://staging.qmapclass.com/class/online-course-in-person-testing-longmont-co-33/
LOCATION:QMAP Training Center\, 1361 Francis St. STE B-107\, Longmont\, CO\, 80501\, United States
CATEGORIES:QMAP SELF PACED Online Course – Scheduled in Person Written and Practicum Testing
END:VEVENT
BEGIN:VEVENT
DTSTART;TZID=America/Denver:20240719T090000
DTEND;TZID=America/Denver:20240720T170000
DTSTAMP:20260423T120024
CREATED:20240510T035944Z
LAST-MODIFIED:20240510T040134Z
UID:10000897-1721379600-1721494800@staging.qmapclass.com
SUMMARY:QMAP In Person Course - Longmont Colorado
DESCRIPTION:
URL:https://staging.qmapclass.com/class/qmap-in-person-course-longmont-colorado-51/
LOCATION:QMAP Training Center\, 1361 Francis St. STE B-107\, Longmont\, CO\, 80501\, United States
CATEGORIES:QMAP Standard 2-day Class
END:VEVENT
BEGIN:VEVENT
DTSTART;TZID=America/Denver:20240711T083000
DTEND;TZID=America/Denver:20240711T140000
DTSTAMP:20260423T120024
CREATED:20240531T145400Z
LAST-MODIFIED:20240619T210707Z
UID:10000909-1720686600-1720706400@staging.qmapclass.com
SUMMARY:ONLINE COURSE - IN PERSON TESTING - LONGMONT CO
DESCRIPTION:
URL:https://staging.qmapclass.com/class/online-course-in-person-testing-longmont-co-32/
LOCATION:QMAP Training Center\, 1361 Francis St. STE B-107\, Longmont\, CO\, 80501\, United States
CATEGORIES:QMAP SELF PACED Online Course – Scheduled in Person Written and Practicum Testing
END:VEVENT
BEGIN:VEVENT
DTSTART;TZID=America/Denver:20240710T090000
DTEND;TZID=America/Denver:20240711T170000
DTSTAMP:20260423T120024
CREATED:20240510T034708Z
LAST-MODIFIED:20240612T141029Z
UID:10000892-1720602000-1720717200@staging.qmapclass.com
SUMMARY:QMAP In Person Course - Longmont Colorado
DESCRIPTION:
URL:https://staging.qmapclass.com/class/qmap-in-person-course-longmont-colorado-48/
LOCATION:QMAP Training Center\, 1361 Francis St. STE B-107\, Longmont\, CO\, 80501\, United States
CATEGORIES:QMAP Standard 2-day Class
END:VEVENT
BEGIN:VEVENT
DTSTART;TZID=America/Denver:20240706T090000
DTEND;TZID=America/Denver:20240706T140000
DTSTAMP:20260423T120024
CREATED:20240509T230443Z
LAST-MODIFIED:20240531T152001Z
UID:10000729-1720256400-1720274400@staging.qmapclass.com
SUMMARY:QMAP RETEST IN PERSON
DESCRIPTION:
URL:https://staging.qmapclass.com/class/qmap-retest-in-person-5/
LOCATION:QMAP Training Center\, 1361 Francis St. STE B-107\, Longmont\, CO\, 80501\, United States
CATEGORIES:QMAP Retesting Only
END:VEVENT
BEGIN:VEVENT
DTSTART;TZID=America/Denver:20240706T083000
DTEND;TZID=America/Denver:20240706T140000
DTSTAMP:20260423T120024
CREATED:20240531T144953Z
LAST-MODIFIED:20240617T220336Z
UID:10000915-1720254600-1720274400@staging.qmapclass.com
SUMMARY:ONLINE COURSE - IN PERSON TESTING - LONGMONT CO
DESCRIPTION:
URL:https://staging.qmapclass.com/class/online-course-in-person-testing-longmont-co-31/
LOCATION:QMAP Training Center\, 1361 Francis St. STE B-107\, Longmont\, CO\, 80501\, United States
CATEGORIES:QMAP SELF PACED Online Course – Scheduled in Person Written and Practicum Testing
END:VEVENT
BEGIN:VEVENT
DTSTART;TZID=America/Denver:20240705T090000
DTEND;TZID=America/Denver:20240706T170000
DTSTAMP:20260423T120024
CREATED:20240510T035620Z
LAST-MODIFIED:20240510T035816Z
UID:10000896-1720170000-1720285200@staging.qmapclass.com
SUMMARY:QMAP In Person Course - Longmont Colorado
DESCRIPTION:
URL:https://staging.qmapclass.com/class/qmap-in-person-course-longmont-colorado-50/
LOCATION:QMAP Training Center\, 1361 Francis St. STE B-107\, Longmont\, CO\, 80501\, United States
CATEGORIES:QMAP Standard 2-day Class
END:VEVENT
BEGIN:VEVENT
DTSTART;TZID=America/Denver:20240627T090000
DTEND;TZID=America/Denver:20240627T140000
DTSTAMP:20260423T120024
CREATED:20240509T233122Z
LAST-MODIFIED:20240531T151201Z
UID:10000871-1719478800-1719496800@staging.qmapclass.com
SUMMARY:QMAP RETEST IN PERSON
DESCRIPTION:
URL:https://staging.qmapclass.com/class/qmap-retest-in-person-8/
LOCATION:QMAP Training Center\, 1361 Francis St. STE B-107\, Longmont\, CO\, 80501\, United States
CATEGORIES:QMAP Retesting Only
END:VEVENT
BEGIN:VEVENT
DTSTART;TZID=America/Denver:20240627T083000
DTEND;TZID=America/Denver:20240627T140000
DTSTAMP:20260423T120024
CREATED:20240531T144428Z
LAST-MODIFIED:20240617T183504Z
UID:10000908-1719477000-1719496800@staging.qmapclass.com
SUMMARY:ONLINE COURSE - IN PERSON TESTING - LONGMONT CO
DESCRIPTION:
URL:https://staging.qmapclass.com/class/online-course-in-person-testing-longmont-co-30/
LOCATION:QMAP Training Center\, 1361 Francis St. STE B-107\, Longmont\, CO\, 80501\, United States
CATEGORIES:QMAP SELF PACED Online Course – Scheduled in Person Written and Practicum Testing
END:VEVENT
BEGIN:VEVENT
DTSTART;TZID=America/Denver:20240626T090000
DTEND;TZID=America/Denver:20240627T170000
DTSTAMP:20260423T120024
CREATED:20240510T034347Z
LAST-MODIFIED:20240612T140648Z
UID:10000891-1719392400-1719507600@staging.qmapclass.com
SUMMARY:QMAP In Person Course - Longmont Colorado
DESCRIPTION:
URL:https://staging.qmapclass.com/class/qmap-in-person-course-longmont-colorado-47/
LOCATION:QMAP Training Center\, 1361 Francis St. STE B-107\, Longmont\, CO\, 80501\, United States
CATEGORIES:QMAP Standard 2-day Class
END:VEVENT
BEGIN:VEVENT
DTSTART;TZID=America/Denver:20240622T090000
DTEND;TZID=America/Denver:20240622T140000
DTSTAMP:20260423T120024
CREATED:20240509T230035Z
LAST-MODIFIED:20240531T150927Z
UID:10000728-1719046800-1719064800@staging.qmapclass.com
SUMMARY:QMAP RETEST IN PERSON
DESCRIPTION:
URL:https://staging.qmapclass.com/class/qmap-retest-in-person-4/
LOCATION:QMAP Training Center\, 1361 Francis St. STE B-107\, Longmont\, CO\, 80501\, United States
CATEGORIES:QMAP Retesting Only
END:VEVENT
BEGIN:VEVENT
DTSTART;TZID=America/Denver:20240622T083000
DTEND;TZID=America/Denver:20240622T140000
DTSTAMP:20260423T120024
CREATED:20240531T140749Z
LAST-MODIFIED:20240617T183210Z
UID:10000914-1719045000-1719064800@staging.qmapclass.com
SUMMARY:ONLINE COURSE - IN PERSON TESTING - LONGMONT CO
DESCRIPTION:
URL:https://staging.qmapclass.com/class/online-course-in-person-testing-longmont-co-27/
LOCATION:QMAP Training Center\, 1361 Francis St. STE B-107\, Longmont\, CO\, 80501\, United States
CATEGORIES:QMAP SELF PACED Online Course – Scheduled in Person Written and Practicum Testing
END:VEVENT
BEGIN:VEVENT
DTSTART;TZID=America/Denver:20240621T090000
DTEND;TZID=America/Denver:20240622T170000
DTSTAMP:20260423T120024
CREATED:20240510T035239Z
LAST-MODIFIED:20240510T035415Z
UID:10000895-1718960400-1719075600@staging.qmapclass.com
SUMMARY:QMAP In Person Course - Longmont Colorado
DESCRIPTION:
URL:https://staging.qmapclass.com/class/qmap-in-person-course-longmont-colorado-49-2/
LOCATION:QMAP Training Center\, 1361 Francis St. STE B-107\, Longmont\, CO\, 80501\, United States
CATEGORIES:QMAP Standard 2-day Class
END:VEVENT
BEGIN:VEVENT
DTSTART;TZID=America/Denver:20240613T090000
DTEND;TZID=America/Denver:20240613T140000
DTSTAMP:20260423T120024
CREATED:20240509T232730Z
LAST-MODIFIED:20240531T151050Z
UID:10000870-1718269200-1718287200@staging.qmapclass.com
SUMMARY:QMAP RETEST IN PERSON
DESCRIPTION:
URL:https://staging.qmapclass.com/class/qmap-retest-in-person-7/
LOCATION:QMAP Training Center\, 1361 Francis St. STE B-107\, Longmont\, CO\, 80501\, United States
CATEGORIES:QMAP Retesting Only
END:VEVENT
BEGIN:VEVENT
DTSTART;TZID=America/Denver:20240613T083000
DTEND;TZID=America/Denver:20240613T140000
DTSTAMP:20260423T120024
CREATED:20240530T180023Z
LAST-MODIFIED:20240617T164025Z
UID:10000907-1718267400-1718287200@staging.qmapclass.com
SUMMARY:ONLINE COURSES - IN PERSON TESTING - LONGMONT CO
DESCRIPTION:
URL:https://staging.qmapclass.com/class/online-course-in-person-testing-longmont-co-26/
LOCATION:QMAP Training Center\, 1361 Francis St. STE B-107\, Longmont\, CO\, 80501\, United States
CATEGORIES:QMAP SELF PACED Online Course – Scheduled in Person Written and Practicum Testing
END:VEVENT
BEGIN:VEVENT
DTSTART;TZID=America/Denver:20240612T090000
DTEND;TZID=America/Denver:20240613T170000
DTSTAMP:20260423T120024
CREATED:20240510T033632Z
LAST-MODIFIED:20240612T140813Z
UID:10000890-1718182800-1718298000@staging.qmapclass.com
SUMMARY:QMAP In Person Course - Longmont Colorado
DESCRIPTION:
URL:https://staging.qmapclass.com/class/qmap-in-person-course-longmont-colorado-46-2/
LOCATION:QMAP Training Center\, 1361 Francis St. STE B-107\, Longmont\, CO\, 80501\, United States
CATEGORIES:QMAP Standard 2-day Class
END:VEVENT
END:VCALENDAR