BEGIN:VCALENDAR
VERSION:2.0
PRODID:-//Colorado QMAP Training - ECPv6.15.17//NONSGML v1.0//EN
CALSCALE:GREGORIAN
METHOD:PUBLISH
X-ORIGINAL-URL:https://staging.qmapclass.com
X-WR-CALDESC:Events for Colorado QMAP Training
REFRESH-INTERVAL;VALUE=DURATION:PT1H
X-Robots-Tag:noindex
X-PUBLISHED-TTL:PT1H
BEGIN:VTIMEZONE
TZID:America/Denver
BEGIN:DAYLIGHT
TZOFFSETFROM:-0700
TZOFFSETTO:-0600
TZNAME:MDT
DTSTART:20210314T090000
END:DAYLIGHT
BEGIN:STANDARD
TZOFFSETFROM:-0600
TZOFFSETTO:-0700
TZNAME:MST
DTSTART:20211107T080000
END:STANDARD
BEGIN:DAYLIGHT
TZOFFSETFROM:-0700
TZOFFSETTO:-0600
TZNAME:MDT
DTSTART:20220313T090000
END:DAYLIGHT
BEGIN:STANDARD
TZOFFSETFROM:-0600
TZOFFSETTO:-0700
TZNAME:MST
DTSTART:20221106T080000
END:STANDARD
BEGIN:DAYLIGHT
TZOFFSETFROM:-0700
TZOFFSETTO:-0600
TZNAME:MDT
DTSTART:20230312T090000
END:DAYLIGHT
BEGIN:STANDARD
TZOFFSETFROM:-0600
TZOFFSETTO:-0700
TZNAME:MST
DTSTART:20231105T080000
END:STANDARD
END:VTIMEZONE
BEGIN:VEVENT
DTSTART;VALUE=DATE:20221101
DTEND;VALUE=DATE:20221103
DTSTAMP:20260422T195012
CREATED:20221015T153017Z
LAST-MODIFIED:20221031T023244Z
UID:10000270-1667260800-1667433599@staging.qmapclass.com
SUMMARY:QMAP In Person Course - Longmont\, CO
DESCRIPTION:
URL:https://staging.qmapclass.com/class/qmap-in-person-course-longmont-co-4/
LOCATION:CO
CATEGORIES:QMAP Standard 2-day Class
END:VEVENT
BEGIN:VEVENT
DTSTART;VALUE=DATE:20221021
DTEND;VALUE=DATE:20221023
DTSTAMP:20260422T195012
CREATED:20220916T142418Z
LAST-MODIFIED:20220916T142609Z
UID:10000243-1666310400-1666483199@staging.qmapclass.com
SUMMARY:QMAP In Person Course - Longmont\, CO
DESCRIPTION:
URL:https://staging.qmapclass.com/class/qmap-in-person-course-longmont-co-3/
LOCATION:CO
CATEGORIES:QMAP Standard 2-day Class
END:VEVENT
BEGIN:VEVENT
DTSTART;VALUE=DATE:20221014
DTEND;VALUE=DATE:20221016
DTSTAMP:20260422T195012
CREATED:20220916T142120Z
LAST-MODIFIED:20220916T142134Z
UID:10000242-1665705600-1665878399@staging.qmapclass.com
SUMMARY:QMAP In Person Course - Longmont\, CO
DESCRIPTION:
URL:https://staging.qmapclass.com/class/qmap-in-person-course-longmont-co-2/
LOCATION:CO
CATEGORIES:QMAP Standard 2-day Class
END:VEVENT
BEGIN:VEVENT
DTSTART;VALUE=DATE:20221007
DTEND;VALUE=DATE:20221009
DTSTAMP:20260422T195012
CREATED:20220916T141800Z
LAST-MODIFIED:20220916T141821Z
UID:10000241-1665100800-1665273599@staging.qmapclass.com
SUMMARY:QMAP In Person Course - Longmont\, CO
DESCRIPTION:
URL:https://staging.qmapclass.com/class/qmap-in-person-course-longmont-co/
LOCATION:CO
CATEGORIES:QMAP Standard 2-day Class
END:VEVENT
BEGIN:VEVENT
DTSTART;VALUE=DATE:20220923
DTEND;VALUE=DATE:20220925
DTSTAMP:20260422T195012
CREATED:20220815T165731Z
LAST-MODIFIED:20220916T143033Z
UID:10000237-1663891200-1664063999@staging.qmapclass.com
SUMMARY:QMAP In Person Course
DESCRIPTION:
URL:https://staging.qmapclass.com/class/qmap-in-person-course-4/
LOCATION:CO
CATEGORIES:QMAP Standard 2-day Class
END:VEVENT
BEGIN:VEVENT
DTSTART;TZID=America/Denver:20220916T090000
DTEND;TZID=America/Denver:20220917T163000
DTSTAMP:20260422T195012
CREATED:20220815T165546Z
LAST-MODIFIED:20220815T165546Z
UID:10000236-1663318800-1663432200@staging.qmapclass.com
SUMMARY:QMAP In Person Course
DESCRIPTION:
URL:https://staging.qmapclass.com/class/qmap-in-person-course-3/
LOCATION:CO
CATEGORIES:QMAP Standard 2-day Class
END:VEVENT
BEGIN:VEVENT
DTSTART;TZID=America/Denver:20220909T090000
DTEND;TZID=America/Denver:20220910T163000
DTSTAMP:20260422T195012
CREATED:20220815T165320Z
LAST-MODIFIED:20220905T172940Z
UID:10000235-1662714000-1662827400@staging.qmapclass.com
SUMMARY:QMAP In Person Course
DESCRIPTION:
URL:https://staging.qmapclass.com/class/qmap-in-person-course-2/
LOCATION:CO
CATEGORIES:QMAP Standard 2-day Class
END:VEVENT
BEGIN:VEVENT
DTSTART;TZID=America/Denver:20220813T090000
DTEND;TZID=America/Denver:20220814T140000
DTSTAMP:20260422T195012
CREATED:20220809T185710Z
LAST-MODIFIED:20220809T185710Z
UID:10000234-1660381200-1660485600@staging.qmapclass.com
SUMMARY:QMAP In Person Course
DESCRIPTION:
URL:https://staging.qmapclass.com/class/qmap-in-person-course/
LOCATION:CO
CATEGORIES:QMAP Standard 2-day Class
END:VEVENT
END:VCALENDAR